BEGIN:VCALENDAR
VERSION:2.0
CALSCALE:GREGORIAN
PRODID:-//Diputació de Barcelona//DibaCMS//EN
BEGIN:VEVENT
UID:55030
DTSTAMP:20260422T124933
DTSTART:20200103T100000
DTEND:20200103T100000
SUMMARY:TALLER FAMILIAR DE FANALETS
LOCATION:Av. Pau Casals, 26 08450 Llinars del Vallès
METHOD:PUBLISH
X-WR-CALNAME:info@llinarsdelvalles.cat
X-WR-TIMEZONE:Europe/Madrid
DESCRIPTION:3 Tallers: 10 h, 16 h i 18 h. 

URI:https://www.llinarsdelvalles.cat/actualitat/agenda/55030-taller-familiar-de-fanalets.html
CLASS:PUBLIC
END:VEVENT
END:VCALENDAR
