BEGIN:VCALENDAR
VERSION:2.0
CALSCALE:GREGORIAN
PRODID:-//Diputació de Barcelona//DibaCMS//EN
BEGIN:VEVENT
UID:55040
DTSTAMP:20260422T113006
DTSTART:20191130T183000
DTEND:20191130T183000
SUMMARY:La Capsa del Padrí
LOCATION:A l'escenari de La Plaça de la 23a Fira dels Torrons 
METHOD:PUBLISH
X-WR-CALNAME:info@llinarsdelvalles.cat
X-WR-TIMEZONE:Europe/Madrid
DESCRIPTION:La Colla Gegantera "La Patufa" ens presentarà a la Fira dels Torrons d'enguany "La Capsa del Padrí", l'espectacle d'estrena del Sr. Galet i la Sra. Neula, que ens portarà a conèixer la història del Pol i l'Emma, els menuts de Can Bordoi, i el resultat de les historietes, contes i llegendes que els seu padrí els hi explicava sovint.
 

URI:https://www.llinarsdelvalles.cat/actualitat/agenda/la-capsa-del-padri.html
CLASS:PUBLIC
END:VEVENT
END:VCALENDAR
