BEGIN:VCALENDAR
VERSION:2.0
CALSCALE:GREGORIAN
PRODID:-//Diputació de Barcelona//DibaCMS//EN
BEGIN:VEVENT
UID:55056
DTSTAMP:20260422T113444
DTSTART:20200105T110000
DTEND:20200105T133000
SUMMARY:VISITA LES CARROSSES - dels Reis Mags de l'Orient abans que arribin a Llinars
LOCATION:Ronda Sant Antoni, 19 08450 Llinars del Vallès
METHOD:PUBLISH
X-WR-CALNAME:info@llinarsdelvalles.cat
X-WR-TIMEZONE:Europe/Madrid
DESCRIPTION:En cas de mal temps l'activitat queda anul·lada.

URI:https://www.llinarsdelvalles.cat/actualitat/agenda/visita-les-carrosses-dels-reis-mags-de-lorient-abans-que-arribin-a-llinars.html
CLASS:PUBLIC
END:VEVENT
END:VCALENDAR
