BEGIN:VCALENDAR
VERSION:2.0
CALSCALE:GREGORIAN
PRODID:-//Diputació de Barcelona//DibaCMS//EN
BEGIN:VEVENT
UID:55060
DTSTAMP:20260420T021958
DTSTART:20200117T173000
DTEND:20200117T173000
SUMMARY:TALLER INFANTIL "Cabana de lectura"
LOCATION:Av. Pau Casals, 26 08450 Llinars del Vallès
METHOD:PUBLISH
X-WR-CALNAME:info@llinarsdelvalles.cat
X-WR-TIMEZONE:Europe/Madrid
DESCRIPTION:El 17è aniversari de la Biblioteca

URI:https://www.llinarsdelvalles.cat/actualitat/agenda/taller-infantil-cabana-de-lectura.html
CLASS:PUBLIC
END:VEVENT
END:VCALENDAR
