BEGIN:VCALENDAR
VERSION:2.0
CALSCALE:GREGORIAN
PRODID:-//Diputació de Barcelona//DibaCMS//EN
BEGIN:VEVENT
UID:55061
DTSTAMP:20260422T151106
DTSTART:20200118T100000
DTEND:20200118T100000
SUMMARY:4t APLEC DE SANT SEBASTIÀ DE PUIGPEDRÓS 
LOCATION:Hermita Sant Sebastià 
METHOD:PUBLISH
X-WR-CALNAME:info@llinarsdelvalles.cat
X-WR-TIMEZONE:Europe/Madrid
DESCRIPTION:Organitza: ADF Llinars i Av de Sant Esteve del Coll.

URI:https://www.llinarsdelvalles.cat/actualitat/agenda/4t-aplec-de-sant-sebastia-de-puigpedros-.html
CLASS:PUBLIC
END:VEVENT
END:VCALENDAR
