BEGIN:VCALENDAR
VERSION:2.0
CALSCALE:GREGORIAN
PRODID:-//Diputació de Barcelona//DibaCMS//EN
BEGIN:VEVENT
UID:55119
DTSTAMP:20260422T104630
DTSTART:20200202T190000
DTEND:20200202T190000
SUMMARY:MÚSICA CLÀSSICA - "Variacions poètiques per acordió i piano" 
LOCATION:Ronda Sant Antoni, 19 08450 Llinars del Vallès
METHOD:PUBLISH
X-WR-CALNAME:info@llinarsdelvalles.cat
X-WR-TIMEZONE:Europe/Madrid
DESCRIPTION:
URI:https://www.llinarsdelvalles.cat/actualitat/agenda/musica-classica-variacions-poetiques-per-acordio-i-piano-.html
CLASS:PUBLIC
END:VEVENT
END:VCALENDAR
