BEGIN:VCALENDAR
VERSION:2.0
CALSCALE:GREGORIAN
PRODID:-//Diputació de Barcelona//DibaCMS//EN
BEGIN:VEVENT
UID:55121
DTSTAMP:20260422T123232
DTSTART:20200208T103000
DTEND:20200208T103000
SUMMARY:CLUB DE LECTURA "La noia de la biblioteca" de Núria Pradas
LOCATION:Av. Pau Casals, 26 08450 Llinars del Vallès
METHOD:PUBLISH
X-WR-CALNAME:info@llinarsdelvalles.cat
X-WR-TIMEZONE:Europe/Madrid
DESCRIPTION:
URI:https://www.llinarsdelvalles.cat/actualitat/agenda/club-de-lectura-la-noia-de-la-biblioteca-de-nuria-pradas.html
CLASS:PUBLIC
END:VEVENT
END:VCALENDAR
