BEGIN:VCALENDAR
VERSION:2.0
CALSCALE:GREGORIAN
PRODID:-//Diputació de Barcelona//DibaCMS//EN
BEGIN:VEVENT
UID:55122
DTSTAMP:20260422T101212
DTSTART:20200208T200000
DTEND:20200208T200000
SUMMARY:TEATRE-FESTIVAL ZERO "Els dies mentits"
LOCATION:Ronda Sant Antoni, 19 08450 Llinars del Vallès
METHOD:PUBLISH
X-WR-CALNAME:info@llinarsdelvalles.cat
X-WR-TIMEZONE:Europe/Madrid
DESCRIPTION:
URI:https://www.llinarsdelvalles.cat/actualitat/agenda/teatre-festival-zero-els-dies-mentits.html
CLASS:PUBLIC
END:VEVENT
END:VCALENDAR
