BEGIN:VCALENDAR
VERSION:2.0
CALSCALE:GREGORIAN
PRODID:-//Diputació de Barcelona//DibaCMS//EN
BEGIN:VEVENT
UID:55125
DTSTAMP:20260422T101335
DTSTART:20200209T190000
DTEND:20200209T190000
SUMMARY:PREFORMANCE-FESTIVAL ZERO "Rebota rebota y en tu cara explota"
LOCATION:Ronda Sant Antoni, 19 08450 Llinars del Vallès
METHOD:PUBLISH
X-WR-CALNAME:info@llinarsdelvalles.cat
X-WR-TIMEZONE:Europe/Madrid
DESCRIPTION:
URI:https://www.llinarsdelvalles.cat/actualitat/agenda/preformance-festival-zero-rebota-rebota-y-en-tu-cara-explota.html
CLASS:PUBLIC
END:VEVENT
END:VCALENDAR
