BEGIN:VCALENDAR
VERSION:2.0
CALSCALE:GREGORIAN
PRODID:-//Diputació de Barcelona//DibaCMS//EN
BEGIN:VEVENT
UID:55132
DTSTAMP:20260422T120417
DTSTART:20200220T183000
DTEND:20200220T183000
SUMMARY:PRESENTACIÓ DEL LLIBRE "Todo lo oye, todo lo ve, todo lo sabe"
LOCATION:Av. Pau Casals, 26 08450 Llinars del Vallès
METHOD:PUBLISH
X-WR-CALNAME:info@llinarsdelvalles.cat
X-WR-TIMEZONE:Europe/Madrid
DESCRIPTION:
URI:https://www.llinarsdelvalles.cat/actualitat/agenda/presentacio-del-llibre-todo-lo-oye-todo-lo-ve-todo-lo-sabe.html
CLASS:PUBLIC
END:VEVENT
END:VCALENDAR
