BEGIN:VCALENDAR
VERSION:2.0
CALSCALE:GREGORIAN
PRODID:-//Diputació de Barcelona//DibaCMS//EN
BEGIN:VEVENT
UID:55141
DTSTAMP:20260422T121412
DTSTART:20200222T200000
DTEND:20200222T200000
SUMMARY:CARNESTOLTES 2020 - Lliurament de premis del concurs de disfresses 
LOCATION:Av. Pau Casals, 22-24 (Àrea central) 08450 Llinars del Vallès
METHOD:PUBLISH
X-WR-CALNAME:info@llinarsdelvalles.cat
X-WR-TIMEZONE:Europe/Madrid
DESCRIPTION:
URI:https://www.llinarsdelvalles.cat/actualitat/agenda/carnestoltes-2020-lliurament-de-premis-del-concurs-de-disfresses-.html
CLASS:PUBLIC
END:VEVENT
END:VCALENDAR
