BEGIN:VCALENDAR
VERSION:2.0
CALSCALE:GREGORIAN
PRODID:-//Diputació de Barcelona//DibaCMS//EN
BEGIN:VEVENT
UID:55152
DTSTAMP:20260422T230556
DTSTART:20200306T183000
DTEND:20200306T183000
SUMMARY:SETMANA DE LA DONA - Taller per adults "A les dones ens agrada més suau? Vi entre amigues" 
LOCATION:Av. Pau Casals, 26 08450 Llinars del Vallès
METHOD:PUBLISH
X-WR-CALNAME:info@llinarsdelvalles.cat
X-WR-TIMEZONE:Europe/Madrid
DESCRIPTION:

URI:https://www.llinarsdelvalles.cat/actualitat/agenda/setmana-de-la-dona-taller-per-adults-a-les-dones-ens-agrada-mes-suau-vi-entre-amigues-.html
CLASS:PUBLIC
END:VEVENT
END:VCALENDAR
