BEGIN:VCALENDAR
VERSION:2.0
CALSCALE:GREGORIAN
PRODID:-//Diputació de Barcelona//DibaCMS//EN
BEGIN:VEVENT
UID:55156
DTSTAMP:20260422T220620
DTSTART:20200307T200000
DTEND:20200307T200000
SUMMARY:SETMANA DE LA DONA - Dansa contemporània "Àer" 
LOCATION:Ronda Sant Antoni, 19 08450 Llinars del Vallès
METHOD:PUBLISH
X-WR-CALNAME:info@llinarsdelvalles.cat
X-WR-TIMEZONE:Europe/Madrid
DESCRIPTION:

URI:https://www.llinarsdelvalles.cat/actualitat/agenda/setmana-de-la-dona-dansa-contemporania-aer-.html
CLASS:PUBLIC
END:VEVENT
END:VCALENDAR
