BEGIN:VCALENDAR
VERSION:2.0
CALSCALE:GREGORIAN
PRODID:-//Diputació de Barcelona//DibaCMS//EN
BEGIN:VEVENT
UID:55171
DTSTAMP:20260422T090827
DTSTART:20200325T173000
DTEND:20200325T173000
SUMMARY:CLUB DE LECTURA INFANTIL "Les illes dels tresors" 
LOCATION:Av. Pau Casals, 26 08450 Llinars del Vallès
METHOD:PUBLISH
X-WR-CALNAME:info@llinarsdelvalles.cat
X-WR-TIMEZONE:Europe/Madrid
DESCRIPTION:Activitat anul·lada.

URI:https://www.llinarsdelvalles.cat/actualitat/agenda/55171-club-de-lectura-infantil-les-illes-dels-tresors-.html
CLASS:PUBLIC
END:VEVENT
END:VCALENDAR
