BEGIN:VCALENDAR
VERSION:2.0
CALSCALE:GREGORIAN
PRODID:-//Diputació de Barcelona//DibaCMS//EN
BEGIN:VEVENT
UID:55174
DTSTAMP:20260422T112300
DTSTART:20200327T193000
DTEND:20200327T193000
SUMMARY:VETLLADES MUSICALS
LOCATION:Carrer Còrsega, 10 (Can Moix) 08450 Llinars del Vallès
METHOD:PUBLISH
X-WR-CALNAME:info@llinarsdelvalles.cat
X-WR-TIMEZONE:Europe/Madrid
DESCRIPTION:Activitat anul·lada.

URI:https://www.llinarsdelvalles.cat/actualitat/agenda/55174-vetllades-musicals.html
CLASS:PUBLIC
END:VEVENT
END:VCALENDAR
