BEGIN:VCALENDAR
VERSION:2.0
CALSCALE:GREGORIAN
PRODID:-//Diputació de Barcelona//DibaCMS//EN
BEGIN:VEVENT
UID:55264
DTSTAMP:20260422T150727
DTSTART:20200424T080000
DTEND:20200424T140000
SUMMARY:Mercat setmanal
LOCATION:
METHOD:PUBLISH
X-WR-CALNAME:info@llinarsdelvalles.cat
X-WR-TIMEZONE:Europe/Madrid
DESCRIPTION:Només amb parades d'alimentació.
Us oferim el llistat de les parades del mercat i els serveis que ofereixen.
Respecteu les mesures de seguretat i manteniu les distàncies.

URI:https://www.llinarsdelvalles.cat/actualitat/agenda/55264-mercat-setmanal.html
CLASS:PUBLIC
END:VEVENT
END:VCALENDAR
