BEGIN:VCALENDAR
VERSION:2.0
CALSCALE:GREGORIAN
PRODID:-//Diputació de Barcelona//DibaCMS//EN
BEGIN:VEVENT
UID:55269
DTSTAMP:20260422T151318
DTSTART:20200501T080000
DTEND:20200501T140000
SUMMARY:Mercat setmanal
LOCATION:
METHOD:PUBLISH
X-WR-CALNAME:info@llinarsdelvalles.cat
X-WR-TIMEZONE:Europe/Madrid
DESCRIPTION:Parades d'alimentació.
Us oferim el llistat de les parades del mercat i els serveis que ofereixen. La majoria permeten fer encàrrecs per telèfon i algunes parades servei a domicili.
✅Recordeu que és molt important respectar les mesures de seguretat i mantenir les distàncies.

URI:https://www.llinarsdelvalles.cat/actualitat/agenda/55269-mercat-setmanal.html
CLASS:PUBLIC
END:VEVENT
END:VCALENDAR
