BEGIN:VCALENDAR
VERSION:2.0
CALSCALE:GREGORIAN
PRODID:-//Diputació de Barcelona//DibaCMS//EN
BEGIN:VEVENT
UID:55348
DTSTAMP:20260422T090132
DTSTART:20200620T160000
DTEND:20200620T160000
SUMMARY:Vivint les emocions de la pandèmia
LOCATION:
METHOD:PUBLISH
X-WR-CALNAME:info@llinarsdelvalles.cat
X-WR-TIMEZONE:Europe/Madrid
DESCRIPTION:Xerrada de gestió emocional a càrrec d'Elisabet Aulet, psicòloga i psicoterapeuta, com a cloenda de la Setmana de la Salut i la Bellesa.
En directe al compte d'Instagram de l'Ajuntament @ajuntament_llinars_del_valles
Vídeo informatiu

URI:https://www.llinarsdelvalles.cat/actualitat/agenda/vivint-les-emocions-de-la-pandemia.html
CLASS:PUBLIC
END:VEVENT
END:VCALENDAR
