BEGIN:VCALENDAR
VERSION:2.0
CALSCALE:GREGORIAN
PRODID:-//Diputació de Barcelona//DibaCMS//EN
BEGIN:VEVENT
UID:55359
DTSTAMP:20260422T085151
DTSTART:20200710T080000
DTEND:20200710T140000
SUMMARY:Mercat setmanal
LOCATION:
METHOD:PUBLISH
X-WR-CALNAME:info@llinarsdelvalles.cat
X-WR-TIMEZONE:Europe/Madrid
DESCRIPTION:Cal respectar les mesures d'higiene i seguretat.

URI:https://www.llinarsdelvalles.cat/actualitat/agenda/55359-mercat-setmanal.html
CLASS:PUBLIC
END:VEVENT
END:VCALENDAR
