BEGIN:VCALENDAR
VERSION:2.0
CALSCALE:GREGORIAN
PRODID:-//Diputació de Barcelona//DibaCMS//EN
BEGIN:VEVENT
UID:55367
DTSTAMP:20260422T111638
DTSTART:20200801T220000
DTEND:20200801T220000
SUMMARY:Cantada d'Havaneres
LOCATION:Pineda del Castell Nou a les 22 h. 
METHOD:PUBLISH
X-WR-CALNAME:info@llinarsdelvalles.cat
X-WR-TIMEZONE:Europe/Madrid
DESCRIPTION:A càrrec de l'Empordanet.

URI:https://www.llinarsdelvalles.cat/actualitat/agenda/cantada-dhavaneres.html
CLASS:PUBLIC
END:VEVENT
END:VCALENDAR
