BEGIN:VCALENDAR
VERSION:2.0
CALSCALE:GREGORIAN
PRODID:-//Diputació de Barcelona//DibaCMS//EN
BEGIN:VEVENT
UID:55372
DTSTAMP:20260422T111757
DTSTART:20200724T080000
DTEND:20200724T140000
SUMMARY:Mercat setmanal
LOCATION:
METHOD:PUBLISH
X-WR-CALNAME:info@llinarsdelvalles.cat
X-WR-TIMEZONE:Europe/Madrid
DESCRIPTION:Caldrà respectar les mesures de seguretat i d'higiene.

URI:https://www.llinarsdelvalles.cat/actualitat/agenda/55372-mercat-setmanal.html
CLASS:PUBLIC
END:VEVENT
END:VCALENDAR
