BEGIN:VCALENDAR
VERSION:2.0
CALSCALE:GREGORIAN
PRODID:-//Diputació de Barcelona//DibaCMS//EN
BEGIN:VEVENT
UID:55380
DTSTAMP:20260422T074523
DTSTART:20200729T150000
DTEND:20200729T150000
SUMMARY:Presetanció del Marketplace a Llinars
LOCATION:Ronda Sant Antoni, 19 08450 Llinars del Vallès
METHOD:PUBLISH
X-WR-CALNAME:info@llinarsdelvalles.cat
X-WR-TIMEZONE:Europe/Madrid
DESCRIPTION:Reunió informativa.

URI:https://www.llinarsdelvalles.cat/actualitat/agenda/presetancio-del-marketplace-a-llinars.html
CLASS:PUBLIC
END:VEVENT
END:VCALENDAR
