BEGIN:VCALENDAR
VERSION:2.0
CALSCALE:GREGORIAN
PRODID:-//Diputació de Barcelona//DibaCMS//EN
BEGIN:VEVENT
UID:55397
DTSTAMP:20260422T101319
DTSTART:20200912T193000
DTEND:20200912T193000
SUMMARY:Cicle de Teatre Feminista
LOCATION:Pati de Can Mas Bagà 
METHOD:PUBLISH
X-WR-CALNAME:info@llinarsdelvalles.cat
X-WR-TIMEZONE:Europe/Madrid
DESCRIPTION:Gita de Bruixa amb la col·laboració de La Masoveria porten el Cicle de Teatre Feminista a Llinars! 
"FIRST ROUND" a càrrec de la companyia Las Fritas

URI:https://www.llinarsdelvalles.cat/actualitat/agenda/cicle-de-teatre-feminista.html
CLASS:PUBLIC
END:VEVENT
END:VCALENDAR
