BEGIN:VCALENDAR
VERSION:2.0
CALSCALE:GREGORIAN
PRODID:-//Diputació de Barcelona//DibaCMS//EN
BEGIN:VEVENT
UID:55398
DTSTAMP:20260422T074646
DTSTART:20200912T103000
DTEND:20200912T133000
SUMMARY:Jornada solidària de Fisiocalisthenia
LOCATION:Parc dels Corbera 
METHOD:PUBLISH
X-WR-CALNAME:info@llinarsdelvalles.cat
X-WR-TIMEZONE:Europe/Madrid
DESCRIPTION:A càrrec de @fisioterapiadexoc.
45 minuts d'entrenament. reserva el teu horari: 10.30 h / 11.30 h / 12.30 h / 13.30 h

URI:https://www.llinarsdelvalles.cat/actualitat/agenda/jornada-solidaria-de-fisiocalisthenia.html
CLASS:PUBLIC
END:VEVENT
END:VCALENDAR
