BEGIN:VCALENDAR
VERSION:2.0
CALSCALE:GREGORIAN
PRODID:-//Diputació de Barcelona//DibaCMS//EN
BEGIN:VEVENT
UID:55406
DTSTAMP:20260422T073939
DTSTART:20201010T200000
DTEND:20201010T230000
SUMMARY:El senyal que esperaves
LOCATION:Ronda Sant Antoni, 19 08450 Llinars del Vallès
METHOD:PUBLISH
X-WR-CALNAME:info@llinarsdelvalles.cat
X-WR-TIMEZONE:Europe/Madrid
DESCRIPTION:Els amics de les arts ens ofereixen dues actuacions, a les 20 i a les 23 h, a la Sala Gran del TA.

URI:https://www.llinarsdelvalles.cat/actualitat/agenda/el-senyal-que-esperaves.html
CLASS:PUBLIC
END:VEVENT
END:VCALENDAR
