BEGIN:VCALENDAR
VERSION:2.0
CALSCALE:GREGORIAN
PRODID:-//Diputació de Barcelona//DibaCMS//EN
BEGIN:VEVENT
UID:55423
DTSTAMP:20260422T074000
DTSTART:20201004T100000
DTEND:20201004T190000
SUMMARY:Botigues al carrer 
LOCATION:
METHOD:PUBLISH
X-WR-CALNAME:info@llinarsdelvalles.cat
X-WR-TIMEZONE:Europe/Madrid
DESCRIPTION:Organitza la UBIC Llinars.

URI:https://www.llinarsdelvalles.cat/actualitat/agenda/55423-botigues-al-carrer-.html
CLASS:PUBLIC
END:VEVENT
END:VCALENDAR
