BEGIN:VCALENDAR
VERSION:2.0
CALSCALE:GREGORIAN
PRODID:-//Diputació de Barcelona//DibaCMS//EN
BEGIN:VEVENT
UID:55512
DTSTAMP:20260422T072424
DTSTART:20201226T170000
DTEND:20201227T190000
SUMMARY:Visita el Pessebre del Castell Nou
LOCATION:08450 Llinars del Vallès
METHOD:PUBLISH
X-WR-CALNAME:info@llinarsdelvalles.cat
X-WR-TIMEZONE:Europe/Madrid
DESCRIPTION:Dissabte 26/12 de 17 a 19 h.
Diumenge 27/12 d'11 a 13h i de 17 a 19 h.

URI:https://www.llinarsdelvalles.cat/actualitat/agenda/visita-el-pessebre-del-castell-nou.html
CLASS:PUBLIC
END:VEVENT
END:VCALENDAR
