BEGIN:VCALENDAR
VERSION:2.0
CALSCALE:GREGORIAN
PRODID:-//Diputació de Barcelona//DibaCMS//EN
BEGIN:VEVENT
UID:55533
DTSTAMP:20260422T072117
DTSTART:20210131T110000
DTEND:20210131T123000
SUMMARY:The Frame
LOCATION:Ronda Sant Antoni, 19 08450 Llinars del Vallès
METHOD:PUBLISH
X-WR-CALNAME:info@llinarsdelvalles.cat
X-WR-TIMEZONE:Europe/Madrid
DESCRIPTION:Performance a un espai exterior al centre del poble.

Diumenge, 31 de gener a les 11 h i a les 12.30 h.

URI:https://www.llinarsdelvalles.cat/actualitat/agenda/the-frame.html
CLASS:PUBLIC
END:VEVENT
END:VCALENDAR
