BEGIN:VCALENDAR
VERSION:2.0
CALSCALE:GREGORIAN
PRODID:-//Diputació de Barcelona//DibaCMS//EN
BEGIN:VEVENT
UID:55606
DTSTAMP:20260422T034229
DTSTART:20210312T183000
DTEND:20210312T183000
SUMMARY:Concert En clau de DO-NA: Romanticisme vs segle XXI
LOCATION:
METHOD:PUBLISH
X-WR-CALNAME:info@llinarsdelvalles.cat
X-WR-TIMEZONE:Europe/Madrid
DESCRIPTION:3a Setmana de la Dona
A l'Instagram del Punt Dona

URI:https://www.llinarsdelvalles.cat/actualitat/agenda/concert-en-clau-de-do-na-romanticisme-vs-segle-xxi.html
CLASS:PUBLIC
END:VEVENT
END:VCALENDAR
