BEGIN:VCALENDAR
VERSION:2.0
CALSCALE:GREGORIAN
PRODID:-//Diputació de Barcelona//DibaCMS//EN
BEGIN:VEVENT
UID:55614
DTSTAMP:20260422T050845
DTSTART:20210321T100000
DTEND:20210321T140000
SUMMARY:Botigues al carrer
LOCATION:
METHOD:PUBLISH
X-WR-CALNAME:info@llinarsdelvalles.cat
X-WR-TIMEZONE:Europe/Madrid
DESCRIPTION:Organitza: Unió de botiguers de Llinars

URI:https://www.llinarsdelvalles.cat/actualitat/agenda/55614-botigues-al-carrer.html
CLASS:PUBLIC
END:VEVENT
END:VCALENDAR
