BEGIN:VCALENDAR
VERSION:2.0
CALSCALE:GREGORIAN
PRODID:-//Diputació de Barcelona//DibaCMS//EN
BEGIN:VEVENT
UID:55641
DTSTAMP:20260422T045711
DTSTART:20210402T080000
DTEND:20210402T140000
SUMMARY:Mercat setmanal 
LOCATION:
METHOD:PUBLISH
X-WR-CALNAME:info@llinarsdelvalles.cat
X-WR-TIMEZONE:Europe/Madrid
DESCRIPTION:Mercat Setmanal a Llinars tot i ser Divendres Sant. 

URI:https://www.llinarsdelvalles.cat/actualitat/agenda/mercat-setmanal-.html
CLASS:PUBLIC
END:VEVENT
END:VCALENDAR
