BEGIN:VCALENDAR
VERSION:2.0
CALSCALE:GREGORIAN
PRODID:-//Diputació de Barcelona//DibaCMS//EN
BEGIN:VEVENT
UID:55664
DTSTAMP:20260422T045803
DTSTART:20210423T100000
DTEND:20210423T200000
SUMMARY:Sant Jordi 2021
LOCATION:
METHOD:PUBLISH
X-WR-CALNAME:info@llinarsdelvalles.cat
X-WR-TIMEZONE:Europe/Madrid
DESCRIPTION:Bona Diada!

URI:https://www.llinarsdelvalles.cat/actualitat/agenda/sant-jordi-2021.html
CLASS:PUBLIC
END:VEVENT
END:VCALENDAR
