BEGIN:VCALENDAR
VERSION:2.0
CALSCALE:GREGORIAN
PRODID:-//Diputació de Barcelona//DibaCMS//EN
BEGIN:VEVENT
UID:55692
DTSTAMP:20260422T035051
DTSTART:20210526T183000
DTEND:20210526T183000
SUMMARY:Taller - Plantes crasses
LOCATION:Av. Pau Casals, 26 08450 Llinars del Vallès
METHOD:PUBLISH
X-WR-CALNAME:info@llinarsdelvalles.cat
X-WR-TIMEZONE:Europe/Madrid
DESCRIPTION:A la Biblioteca Can Casas.

URI:https://www.llinarsdelvalles.cat/actualitat/agenda/taller-plantes-crasses.html
CLASS:PUBLIC
END:VEVENT
END:VCALENDAR
