BEGIN:VCALENDAR
VERSION:2.0
CALSCALE:GREGORIAN
PRODID:-//Diputació de Barcelona//DibaCMS//EN
BEGIN:VEVENT
UID:55770
DTSTAMP:20260422T021937
DTSTART:20210709T210000
DTEND:20210709T210000
SUMMARY:Ballada de Sardanes 
LOCATION:08450 Llinars del Vallès
METHOD:PUBLISH
X-WR-CALNAME:info@llinarsdelvalles.cat
X-WR-TIMEZONE:Europe/Madrid
DESCRIPTION:Pati del Castell Nou.

URI:https://www.llinarsdelvalles.cat/actualitat/agenda/ballada-de-sardanes-.html
CLASS:PUBLIC
END:VEVENT
END:VCALENDAR
