BEGIN:VCALENDAR
VERSION:2.0
CALSCALE:GREGORIAN
PRODID:-//Diputació de Barcelona//DibaCMS//EN
BEGIN:VEVENT
UID:55775
DTSTAMP:20260422T045632
DTSTART:20210718T190000
DTEND:20210718T190000
SUMMARY:Concert de la Coral Turó del Vent
LOCATION:08450 Llinars del Vallès
METHOD:PUBLISH
X-WR-CALNAME:info@llinarsdelvalles.cat
X-WR-TIMEZONE:Europe/Madrid
DESCRIPTION:Antillana -  Havaneres i obres relacionades amb el mar.

URI:https://www.llinarsdelvalles.cat/actualitat/agenda/concert-de-la-coral-turo-del-vent.html
CLASS:PUBLIC
END:VEVENT
END:VCALENDAR
