BEGIN:VCALENDAR
VERSION:2.0
CALSCALE:GREGORIAN
PRODID:-//Diputació de Barcelona//DibaCMS//EN
BEGIN:VEVENT
UID:55789
DTSTAMP:20260422T034448
DTSTART:20210731T180000
DTEND:20210731T210000
SUMMARY:Festa del reciclatge
LOCATION:
METHOD:PUBLISH
X-WR-CALNAME:info@llinarsdelvalles.cat
X-WR-TIMEZONE:Europe/Madrid
DESCRIPTION:A la carpa del carrer Frederic Marés.

URI:https://www.llinarsdelvalles.cat/actualitat/agenda/55789-festa-del-reciclatge.html
CLASS:PUBLIC
END:VEVENT
END:VCALENDAR
