BEGIN:VCALENDAR
VERSION:2.0
CALSCALE:GREGORIAN
PRODID:-//Diputació de Barcelona//DibaCMS//EN
BEGIN:VEVENT
UID:55824
DTSTAMP:20260422T023236
DTSTART:20210909T170000
DTEND:20211031T130000
SUMMARY:Espai i Presència a l'Espai d'Art Llinars
LOCATION:C/ Frederic Marés (antic CAP) 08450 Llinars del Vallès
METHOD:PUBLISH
X-WR-CALNAME:info@llinarsdelvalles.cat
X-WR-TIMEZONE:Europe/Madrid
DESCRIPTION:Montse Clausells presenta una col·lecció de pintura inspirada en tres edificis emblemàtics del municipi com són el Castell Nou, el Teatre Auditori i el Nou Espai d'Art.

URI:https://www.llinarsdelvalles.cat/actualitat/agenda/55824-espai-i-presencia-a-lespai-dart-llinars.html
CLASS:PUBLIC
END:VEVENT
END:VCALENDAR
