BEGIN:VCALENDAR
VERSION:2.0
CALSCALE:GREGORIAN
PRODID:-//Diputació de Barcelona//DibaCMS//EN
BEGIN:VEVENT
UID:55877
DTSTAMP:20260422T034114
DTSTART:20211031T170000
DTEND:20211031T170000
SUMMARY:Castanyada 2021
LOCATION:08450 Llinars del Vallès
METHOD:PUBLISH
X-WR-CALNAME:info@llinarsdelvalles.cat
X-WR-TIMEZONE:Europe/Madrid
DESCRIPTION:Melanie, l'única dona maga!

URI:https://www.llinarsdelvalles.cat/actualitat/agenda/castanyada-2021.html
CLASS:PUBLIC
END:VEVENT
END:VCALENDAR
