BEGIN:VCALENDAR
VERSION:2.0
CALSCALE:GREGORIAN
PRODID:-//Diputació de Barcelona//DibaCMS//EN
BEGIN:VEVENT
UID:55887
DTSTAMP:20260422T011243
DTSTART:20211120T170000
DTEND:20211120T170000
SUMMARY:TEATRE - Filumena Marturano
LOCATION:Ronda Sant Antoni, 19 08450 Llinars del Vallès
METHOD:PUBLISH
X-WR-CALNAME:info@llinarsdelvalles.cat
X-WR-TIMEZONE:Europe/Madrid
DESCRIPTION:Al TA
Dues sessions: 17 h i 20.30 h

URI:https://www.llinarsdelvalles.cat/actualitat/agenda/teatre-filumena-marturano.html
CLASS:PUBLIC
END:VEVENT
END:VCALENDAR
