BEGIN:VCALENDAR
VERSION:2.0
CALSCALE:GREGORIAN
PRODID:-//Diputació de Barcelona//DibaCMS//EN
BEGIN:VEVENT
UID:55888
DTSTAMP:20260421T205922
DTSTART:20220703T210000
DTEND:20220703T210000
SUMMARY:CIRC - Mort de riure
LOCATION:Ronda Sant Antoni, 19 08450 Llinars del Vallès
METHOD:PUBLISH
X-WR-CALNAME:info@llinarsdelvalles.cat
X-WR-TIMEZONE:Europe/Madrid
DESCRIPTION:Reprogramada del 27/11/21 - Ara més i millor: a l'aire lliure i a l'estiu, al TA. 
Compra d'entrades aquí.

URI:https://www.llinarsdelvalles.cat/actualitat/agenda/circ-mort-de-riure.html
CLASS:PUBLIC
END:VEVENT
END:VCALENDAR
