BEGIN:VCALENDAR
VERSION:2.0
CALSCALE:GREGORIAN
PRODID:-//Diputació de Barcelona//DibaCMS//EN
BEGIN:VEVENT
UID:55896
DTSTAMP:20260422T050113
DTSTART:20211112T200000
DTEND:20211112T200000
SUMMARY:Cinefòrum - Projecció de la pel·lícula "El Padre"
LOCATION:Ronda Sant Antoni, 19 08450 Llinars del Vallès
METHOD:PUBLISH
X-WR-CALNAME:info@llinarsdelvalles.cat
X-WR-TIMEZONE:Europe/Madrid
DESCRIPTION:Dintre del projecte CulturaMENT.
Quinzena de la cultura i l'art al servei de la salut mental.

URI:https://www.llinarsdelvalles.cat/actualitat/agenda/cineforum-projeccio-de-la-pellicula-el-padre.html
CLASS:PUBLIC
END:VEVENT
END:VCALENDAR
