BEGIN:VCALENDAR
VERSION:2.0
CALSCALE:GREGORIAN
PRODID:-//Diputació de Barcelona//DibaCMS//EN
BEGIN:VEVENT
UID:55911
DTSTAMP:20260421T234317
DTSTART:20211125T120000
DTEND:20211125T120000
SUMMARY:Lectura del manifest institucional
LOCATION:
METHOD:PUBLISH
X-WR-CALNAME:info@llinarsdelvalles.cat
X-WR-TIMEZONE:Europe/Madrid
DESCRIPTION:En motiu del Dia Internacional per a l'eliminació de la violència envers les dones.
Plaça de la Vila.

URI:https://www.llinarsdelvalles.cat/actualitat/agenda/lectura-del-manifest-institucional.html
CLASS:PUBLIC
END:VEVENT
END:VCALENDAR
