BEGIN:VCALENDAR
VERSION:2.0
CALSCALE:GREGORIAN
PRODID:-//Diputació de Barcelona//DibaCMS//EN
BEGIN:VEVENT
UID:55912
DTSTAMP:20260422T010446
DTSTART:20211127T093000
DTEND:20211127T093000
SUMMARY:Caminada entre Llinars i Vilalba en motiu del 25N - Dia Internacional per a l'eliminació de la violència envers les dones
LOCATION:
METHOD:PUBLISH
X-WR-CALNAME:info@llinarsdelvalles.cat
X-WR-TIMEZONE:Europe/Madrid
DESCRIPTION:Sortida a les 9.30 h des de la plaça dels Països Catalans.

URI:https://www.llinarsdelvalles.cat/actualitat/agenda/caminada-entre-llinars-i-vilalba-en-motiu-del-25n-dia-internacional-per-a-leliminacio-de-la-violencia-envers-les-dones.html
CLASS:PUBLIC
END:VEVENT
END:VCALENDAR
