BEGIN:VCALENDAR
VERSION:2.0
CALSCALE:GREGORIAN
PRODID:-//Diputació de Barcelona//DibaCMS//EN
BEGIN:VEVENT
UID:55915
DTSTAMP:20260421T234515
DTSTART:20211121T110000
DTEND:20220130T140000
SUMMARY:M dMatèric de Marga Madrigal
LOCATION:C/ Frederic Marés (antic CAP) 08450 Llinars del Vallès
METHOD:PUBLISH
X-WR-CALNAME:info@llinarsdelvalles.cat
X-WR-TIMEZONE:Europe/Madrid
DESCRIPTION:Nova exposició a l'Espai d'Art Llinars.

URI:https://www.llinarsdelvalles.cat/actualitat/agenda/m-dmateric-de-marga-madrigal.html
CLASS:PUBLIC
END:VEVENT
END:VCALENDAR
