BEGIN:VCALENDAR
VERSION:2.0
CALSCALE:GREGORIAN
PRODID:-//Diputació de Barcelona//DibaCMS//EN
BEGIN:VEVENT
UID:55934
DTSTAMP:20260421T233850
DTSTART:20211219T110000
DTEND:20211219T133000
SUMMARY:Llinars amb La Marató de TV3
LOCATION:Av. Pau Casals, 18-20 (Àrea central) 08450 Llinars del Vallès
METHOD:PUBLISH
X-WR-CALNAME:info@llinarsdelvalles.cat
X-WR-TIMEZONE:Europe/Madrid
DESCRIPTION:Actuació musical nadalenca a càrrec de la Gresca de Llinars a la plaça Sant Maria, durant el Market de Nadal.

URI:https://www.llinarsdelvalles.cat/actualitat/agenda/55934-llinars-amb-la-marato-de-tv3.html
CLASS:PUBLIC
END:VEVENT
END:VCALENDAR
