BEGIN:VCALENDAR
VERSION:2.0
CALSCALE:GREGORIAN
PRODID:-//Diputació de Barcelona//DibaCMS//EN
BEGIN:VEVENT
UID:55941
DTSTAMP:20260422T005950
DTSTART:20220105T100000
DTEND:20220105T130000
SUMMARY:Campament Reial
LOCATION:
METHOD:PUBLISH
X-WR-CALNAME:info@llinarsdelvalles.cat
X-WR-TIMEZONE:Europe/Madrid
DESCRIPTION:Vine a veure el patge Llibreter per tal de donar-li la carta per a ses majestats els reis mags de l'Orient.

URI:https://www.llinarsdelvalles.cat/actualitat/agenda/55941-campament-reial.html
CLASS:PUBLIC
END:VEVENT
END:VCALENDAR
