BEGIN:VCALENDAR
VERSION:2.0
CALSCALE:GREGORIAN
PRODID:-//Diputació de Barcelona//DibaCMS//EN
BEGIN:VEVENT
UID:55945
DTSTAMP:20260421T234225
DTSTART:20211218T210000
DTEND:20211218T210000
SUMMARY:Concert de Nadal 
LOCATION:Carrer de l'Església, 1 08450 Llinars del Vallès
METHOD:PUBLISH
X-WR-CALNAME:info@llinarsdelvalles.cat
X-WR-TIMEZONE:Europe/Madrid
DESCRIPTION:A càrrec de la Coral Turó del Vent.

URI:https://www.llinarsdelvalles.cat/actualitat/agenda/concert-de-nadal-.html
CLASS:PUBLIC
END:VEVENT
END:VCALENDAR
