BEGIN:VCALENDAR
VERSION:2.0
CALSCALE:GREGORIAN
PRODID:-//Diputació de Barcelona//DibaCMS//EN
BEGIN:VEVENT
UID:55947
DTSTAMP:20260422T034204
DTSTART:20211225T090000
DTEND:20211225T123000
SUMMARY:Misses de Nadal
LOCATION:Carrer de l'Església, 1 08450 Llinars del Vallès
METHOD:PUBLISH
X-WR-CALNAME:info@llinarsdelvalles.cat
X-WR-TIMEZONE:Europe/Madrid
DESCRIPTION:A les 9 h i a les 12.30 h

URI:https://www.llinarsdelvalles.cat/actualitat/agenda/misses-de-nadal.html
CLASS:PUBLIC
END:VEVENT
END:VCALENDAR
