BEGIN:VCALENDAR
VERSION:2.0
CALSCALE:GREGORIAN
PRODID:-//Diputació de Barcelona//DibaCMS//EN
BEGIN:VEVENT
UID:55984
DTSTAMP:20260421T113823
DTSTART:20220213T190000
DTEND:20220213T190000
SUMMARY:Gran recital per a trompeta i piano
LOCATION:Ronda Sant Antoni, 19 08450 Llinars del Vallès
METHOD:PUBLISH
X-WR-CALNAME:info@llinarsdelvalles.cat
X-WR-TIMEZONE:Europe/Madrid
DESCRIPTION:Música clàssica al TA

URI:https://www.llinarsdelvalles.cat/actualitat/agenda/gran-recital-per-a-trompeta-i-piano.html
CLASS:PUBLIC
END:VEVENT
END:VCALENDAR
