BEGIN:VCALENDAR
VERSION:2.0
CALSCALE:GREGORIAN
PRODID:-//Diputació de Barcelona//DibaCMS//EN
BEGIN:VEVENT
UID:56005
DTSTAMP:20260421T234301
DTSTART:20220217T173000
DTEND:20220217T173000
SUMMARY:Hora del conte a la Biblioteca "Per Carnaval tot es pot contar!"
LOCATION:Av. Pau Casals, 26 08450 Llinars del Vallès
METHOD:PUBLISH
X-WR-CALNAME:info@llinarsdelvalles.cat
X-WR-TIMEZONE:Europe/Madrid
DESCRIPTION:A càrrec de Laura Asensio

URI:https://www.llinarsdelvalles.cat/actualitat/agenda/hora-del-conte-a-la-biblioteca-per-carnaval-tot-es-pot-contar.html
CLASS:PUBLIC
END:VEVENT
END:VCALENDAR
